BEGIN:VCALENDAR
VERSION:2.0
PRODID:-//Startups Upper Austria - ECPv6.15.20//NONSGML v1.0//EN
CALSCALE:GREGORIAN
METHOD:PUBLISH
X-WR-CALNAME:Startups Upper Austria
X-ORIGINAL-URL:https://startupsupperaustria.at
X-WR-CALDESC:Veranstaltungen für Startups Upper Austria
REFRESH-INTERVAL;VALUE=DURATION:PT1H
X-Robots-Tag:noindex
X-PUBLISHED-TTL:PT1H
BEGIN:VTIMEZONE
TZID:Europe/Vienna
BEGIN:DAYLIGHT
TZOFFSETFROM:+0100
TZOFFSETTO:+0200
TZNAME:CEST
DTSTART:20250330T010000
END:DAYLIGHT
BEGIN:STANDARD
TZOFFSETFROM:+0200
TZOFFSETTO:+0100
TZNAME:CET
DTSTART:20251026T010000
END:STANDARD
BEGIN:DAYLIGHT
TZOFFSETFROM:+0100
TZOFFSETTO:+0200
TZNAME:CEST
DTSTART:20260329T010000
END:DAYLIGHT
BEGIN:STANDARD
TZOFFSETFROM:+0200
TZOFFSETTO:+0100
TZNAME:CET
DTSTART:20261025T010000
END:STANDARD
BEGIN:DAYLIGHT
TZOFFSETFROM:+0100
TZOFFSETTO:+0200
TZNAME:CEST
DTSTART:20270328T010000
END:DAYLIGHT
BEGIN:STANDARD
TZOFFSETFROM:+0200
TZOFFSETTO:+0100
TZNAME:CET
DTSTART:20271031T010000
END:STANDARD
END:VTIMEZONE
BEGIN:VEVENT
DTSTART;TZID=Europe/Vienna:20260210T180000
DTEND;TZID=Europe/Vienna:20260210T230000
DTSTAMP:20260424T112423
CREATED:20250804T164602Z
LAST-MODIFIED:20260220T162800Z
UID:9114-1770746400-1770764400@startupsupperaustria.at
SUMMARY:Stammtisch #25
DESCRIPTION:Beim Stammtisch von Startups Upper Austria steht das Netzwerken im Vordergrund. In unserem modernen Office im Blockchain Hub laden wir dich ein\, bei angenehmer Musik und erfrischenden Drinks Geschäftskontakte zu knüpfen und Erfahrungen auszutauschen. Es ist die ideale Gelegenheit\, sich mit anderen Gründer:innen\, Gründungsinteressierte und führenden Geschäftsleuten aus Oberösterreich zu vernetzen und gleichzeitig einen angenehmen Abend zu verbringen. Wir freuen uns darauf\, dich in unserer Runde begrüßen zu dürfen.
URL:https://startupsupperaustria.at/event/stammtisch-25/
LOCATION:Raffaseder Haider Rechtsanwälte\, Peter-Behrens-Platz 7 Haus Casablanca\, Stiege D\, 1. Stock\, Linz\, Oberösterreich\, 4020
ATTACH;FMTTYPE=image/jpeg:https://startupsupperaustria.at/wp-content/uploads/2024/10/Stammtisch-6-1-min-scaled-1.jpg
END:VEVENT
BEGIN:VEVENT
DTSTART;TZID=Europe/Vienna:20260227T190000
DTEND;TZID=Europe/Vienna:20260227T233000
DTSTAMP:20260424T112423
CREATED:20250805T163441Z
LAST-MODIFIED:20260225T185110Z
UID:9127-1772218800-1772235000@startupsupperaustria.at
SUMMARY:Three Years Startups Upper Austria (und Generalversammlung)
DESCRIPTION:Liebe Freunde von Startups Upper Austria! \nWir laden euch herzlich ein\, gemeinsam mit uns ein besonderes Ereignis zu feiern: Unser 3-jähriges Jubiläum von Startups Upper Austria. Dies ist eine wunderbare Gelegenheit\, um auf ein weiteres erfolgreiches Jahr zurückzublicken und gleichzeitig in die Zukunft zu blicken. Vorgelagert zur 3-Jahres-Feier findet unsere Generalversammlung statt\, alle Vereinsmitglieder bitten wir daher\, schon um 17:30 zu erscheinen \nDatum: 27. Februar 2026\nBeginn der 3-Jahres-Feier: 19:00\nBeginn der Generalversammlung (nur für Vereinsmitglieder): 17:30\nVeranstaltungsort: Danube Blockchain Hub \nLasst uns gemeinsam das dreijährige Bestehen von Startups Upper Austria feiern! 🙏 \nGemeinsam haben wir einiges erreicht\, indem wir unsere Stärken nutzen\, um den Verein und unsere Community voranzutreiben. Ein besonderer Dank geht an unsere engagierten Volunteers\, die sich trotz ihres stressigen Alltags und Hauptjobs die Zeit nehmen\, uns zu unterstützen. 👏🔝 \nBitte meldet euch unten an\, damit wir einen Platz für euch reservieren und planen können. \n\n\nWir freuen uns darauf\, euch am 27. Februar zu begrüßen und gemeinsam mit euch sowohl das vergangene Jahr Revue passieren zu lassen als auch unser 3-jähriges Bestehen zu feiern!
URL:https://startupsupperaustria.at/event/three-years-startups-upper-austria/
LOCATION:Danube Blockchain Hub\, Peter-Behrens-Platz 4\, Linz\, Oberösterreich\, 4020\, Österreich
ATTACH;FMTTYPE=image/jpeg:https://startupsupperaustria.at/wp-content/uploads/2025/03/3-Generalversammlung-35-scaled-1.jpg
END:VEVENT
END:VCALENDAR