BEGIN:VCALENDAR
VERSION:2.0
PRODID:-//Startups Upper Austria - ECPv6.15.20//NONSGML v1.0//EN
CALSCALE:GREGORIAN
METHOD:PUBLISH
X-WR-CALNAME:Startups Upper Austria
X-ORIGINAL-URL:https://startupsupperaustria.at
X-WR-CALDESC:Veranstaltungen für Startups Upper Austria
REFRESH-INTERVAL;VALUE=DURATION:PT1H
X-Robots-Tag:noindex
X-PUBLISHED-TTL:PT1H
BEGIN:VTIMEZONE
TZID:Europe/Berlin
BEGIN:DAYLIGHT
TZOFFSETFROM:+0100
TZOFFSETTO:+0200
TZNAME:CEST
DTSTART:20250330T010000
END:DAYLIGHT
BEGIN:STANDARD
TZOFFSETFROM:+0200
TZOFFSETTO:+0100
TZNAME:CET
DTSTART:20251026T010000
END:STANDARD
BEGIN:DAYLIGHT
TZOFFSETFROM:+0100
TZOFFSETTO:+0200
TZNAME:CEST
DTSTART:20260329T010000
END:DAYLIGHT
BEGIN:STANDARD
TZOFFSETFROM:+0200
TZOFFSETTO:+0100
TZNAME:CET
DTSTART:20261025T010000
END:STANDARD
BEGIN:DAYLIGHT
TZOFFSETFROM:+0100
TZOFFSETTO:+0200
TZNAME:CEST
DTSTART:20270328T010000
END:DAYLIGHT
BEGIN:STANDARD
TZOFFSETFROM:+0200
TZOFFSETTO:+0100
TZNAME:CET
DTSTART:20271031T010000
END:STANDARD
END:VTIMEZONE
BEGIN:VEVENT
DTSTART;TZID=Europe/Berlin:20260310T170000
DTEND;TZID=Europe/Berlin:20260310T180000
DTSTAMP:20260422T174557
CREATED:20260302T205809Z
LAST-MODIFIED:20260309T181753Z
UID:10258-1773162000-1773165600@startupsupperaustria.at
SUMMARY:Meetup #13: Von der Idee zum ersten Umsatz
DESCRIPTION:Wie wird aus einer Idee ein zahlendes Produkt? In diesem Meetup geben zwei Lukas Krainz (von Vereinsplaner) und Dusan Milekic (von GO BIG OR GO HOME) ehrliche Einblicke und konkrete Werkzeuge an die Hand – von der ersten Idee bis zu den ersten Umsätzen. \nTalk 1: Von der Idee zum Umsatz – Lessons Learned aus dem Aufbau von Vereinsplaner \nLukas Krainz zeigt den Weg von Vereinsplaner: \n\nEntstehung der Idee aus dem eigenen Vereinsalltag\nPrototyp\, MVP und Feedback echter Nutzer:innen\nLaunch von Version 1 und erste zahlende Kund:innen\nEinführung des Abo-Modells und erster Umsatz\nWeiterentwicklung zu Version 2 und Skalierung\nWichtige Learnings\, Fehler und was rückblickend anders gemacht worden wäre\n\nTalk 2: Hands-on zum ersten Umsatz – so kommst du schnell an Kontakte und Termine \nDusan Milekic zeigt anhand eines konkreten Beispiels\, wie \n\nman schnell relevante Kontakte findet\,\nGespräche initiiert\,\nTelefonnummern erhält\nund die ersten Termine und Chancen generiert.\n\n🎯 Für wen?Für Gründer:innen\, Gründungsinteressierte und alle\, die aus einer Idee ein funktionierendes Business machen wollen – praxisnah\, ehrlich und ohne Buzzwords. \n📍Wo?\nVereinsplaner Büro in der Gruberstraße 1\, 4020 Linz\, 12. Stock im Quadrill Tower. Bei der Drehtüre rein\, dann sind die Lifte rechts\, dann den 12. Stock auswählen – der Lift fährt direkt rauf. \nZum ersten Mal wird das Meetup auch Hybrid stattfinden\, hier ist der Teilnahmelink:\nhttps://jku.zoom.us/j/67337018060?pwd=gLEyuuiOI2uWbhQAe4IQGWOxqhSrrm.1
URL:https://startupsupperaustria.at/event/meetup-13-von-der-idee-zum-ersten-umsatz/
LOCATION:Vereinsplaner\, Vereinsplaner Büro\, Gruberstraße 1\, 12. Stock im Quadrill Tower. Bei der Drehtüre rein\, dann sind die Lifte rechts\, dann den 12. Stock auswählen – der Lift fährt direkt rauf.\, Linz\, Oberösterreich\, 4020\, Austria
ATTACH;FMTTYPE=image/png:https://startupsupperaustria.at/wp-content/uploads/2026/03/Meetup-13-Vereinsplaner.png
END:VEVENT
BEGIN:VEVENT
DTSTART;TZID=Europe/Berlin:20260310T180000
DTEND;TZID=Europe/Berlin:20260310T210000
DTSTAMP:20260422T174557
CREATED:20260220T172555Z
LAST-MODIFIED:20260220T172922Z
UID:10149-1773165600-1773176400@startupsupperaustria.at
SUMMARY:Stammtisch #26
DESCRIPTION:Beim Stammtisch von Startups Upper Austria steht das Netzwerken und Austauschen in geselliger Runde im Vordergrund. Es ist die ideale Gelegenheit\, sich mit anderen führenden Geschäftsleuten aus Oberösterreich zu vernetzen und gleichzeitig einen angenehmen Abend zu verbringen. Davor gibt es wieder ein spannendes Meetup\, welches zeitnah auf der Website ergänzt wird. \nKomme daher vorbei\, um bei angenehmer Musik und erfrischenden Drinks neue Kontakte zu knüpfen und um wertvolle Erfahrungen miteinander auszutauschen. Wir freuen uns darauf\, dich in unserer Runde begrüßen zu dürfen.
URL:https://startupsupperaustria.at/event/stammtisch-26/
LOCATION:Vereinsplaner\, Vereinsplaner Büro\, Gruberstraße 1\, 12. Stock im Quadrill Tower. Bei der Drehtüre rein\, dann sind die Lifte rechts\, dann den 12. Stock auswählen – der Lift fährt direkt rauf.\, Linz\, Oberösterreich\, 4020\, Austria
ATTACH;FMTTYPE=image/jpeg:https://startupsupperaustria.at/wp-content/uploads/2024/10/Stammtisch-4-min-scaled-1.jpg
END:VEVENT
END:VCALENDAR